BEGIN:VCALENDAR
VERSION:2.0
PRODID:icalendar-ruby
CALSCALE:GREGORIAN
BEGIN:VTIMEZONE
TZID:America/Los_Angeles
BEGIN:DAYLIGHT
DTSTART:20260308T030000
TZOFFSETFROM:-0800
TZOFFSETTO:-0700
RRULE:FREQ=YEARLY;BYDAY=2SU;BYMONTH=3
TZNAME:PDT
END:DAYLIGHT
BEGIN:STANDARD
DTSTART:20261101T010000
TZOFFSETFROM:-0700
TZOFFSETTO:-0800
RRULE:FREQ=YEARLY;BYDAY=1SU;BYMONTH=11
TZNAME:PST
END:STANDARD
END:VTIMEZONE
BEGIN:VEVENT
DTSTAMP:20260425T154640Z
UID:https://pasadena.helpfulvillage.com/events/4735
DTSTART;TZID=America/Los_Angeles:20260517T140000
DTEND;TZID=America/Los_Angeles:20260517T163000
CLASS:PRIVATE
CREATED:20260424T113326
DESCRIPTION:
LAST-MODIFIED:20260424T114213
LOCATION:San Gabriel Mission Playhouse\, 320 S Mission Dr\, San Gabriel\, C
 A 91176
SUMMARY:Village event: Outing to Pacific Opera Project: Zorro
URL;VALUE=URI:https://pasadena.helpfulvillage.com/events/4735
END:VEVENT
END:VCALENDAR
