BEGIN:VCALENDAR
VERSION:2.0
PRODID:icalendar-ruby
CALSCALE:GREGORIAN
BEGIN:VTIMEZONE
TZID:America/Los_Angeles
BEGIN:DAYLIGHT
DTSTART:20260308T030000
TZOFFSETFROM:-0800
TZOFFSETTO:-0700
RRULE:FREQ=YEARLY;BYDAY=2SU;BYMONTH=3
TZNAME:PDT
END:DAYLIGHT
BEGIN:STANDARD
DTSTART:20261101T010000
TZOFFSETFROM:-0700
TZOFFSETTO:-0800
RRULE:FREQ=YEARLY;BYDAY=1SU;BYMONTH=11
TZNAME:PST
END:STANDARD
END:VTIMEZONE
BEGIN:VEVENT
DTSTAMP:20260425T153828Z
UID:https://pasadena.helpfulvillage.com/events/4730
DTSTART;TZID=America/Los_Angeles:20260430T123000
DTEND;TZID=America/Los_Angeles:20260430T140000
CLASS:PRIVATE
CREATED:20260423T121811
DESCRIPTION:
LAST-MODIFIED:20260423T124822
LOCATION:Jack Rutberg Fine Arts Gallery\, 600 S Lake Ave #102\, Pasasdena\,
  CA 91106
SUMMARY:Village event: Outing to Jack Rutberg Fine Arts Gallery
URL;VALUE=URI:https://pasadena.helpfulvillage.com/events/4730
END:VEVENT
END:VCALENDAR
