BEGIN:VCALENDAR
VERSION:2.0
PRODID:icalendar-ruby
CALSCALE:GREGORIAN
BEGIN:VTIMEZONE
TZID:America/Los_Angeles
BEGIN:DAYLIGHT
DTSTART:20260308T030000
TZOFFSETFROM:-0800
TZOFFSETTO:-0700
RRULE:FREQ=YEARLY;BYDAY=2SU;BYMONTH=3
TZNAME:PDT
END:DAYLIGHT
BEGIN:STANDARD
DTSTART:20261101T010000
TZOFFSETFROM:-0700
TZOFFSETTO:-0800
RRULE:FREQ=YEARLY;BYDAY=1SU;BYMONTH=11
TZNAME:PST
END:STANDARD
END:VTIMEZONE
BEGIN:VEVENT
DTSTAMP:20260422T123303Z
UID:https://pasadena.helpfulvillage.com/events/4718
DTSTART;TZID=America/Los_Angeles:20260423T200000
DTEND;TZID=America/Los_Angeles:20260423T210000
CLASS:PRIVATE
CREATED:20260420T111415
DESCRIPTION:
LAST-MODIFIED:20260421T140840
SUMMARY:Village event: TV: Behind-the-Scenes –"Return to Iwo Jima"\, Zoom
URL;VALUE=URI:https://pasadena.helpfulvillage.com/events/4718
END:VEVENT
END:VCALENDAR
