BEGIN:VCALENDAR
VERSION:2.0
PRODID:icalendar-ruby
CALSCALE:GREGORIAN
BEGIN:VTIMEZONE
TZID:America/Los_Angeles
BEGIN:DAYLIGHT
DTSTART:20260308T030000
TZOFFSETFROM:-0800
TZOFFSETTO:-0700
RRULE:FREQ=YEARLY;BYDAY=2SU;BYMONTH=3
TZNAME:PDT
END:DAYLIGHT
BEGIN:STANDARD
DTSTART:20261101T010000
TZOFFSETFROM:-0700
TZOFFSETTO:-0800
RRULE:FREQ=YEARLY;BYDAY=1SU;BYMONTH=11
TZNAME:PST
END:STANDARD
END:VTIMEZONE
BEGIN:VEVENT
DTSTAMP:20260422T123428Z
UID:https://pasadena.helpfulvillage.com/events/4717
DTSTART;TZID=America/Los_Angeles:20260513T080000
DTEND;TZID=America/Los_Angeles:20260513T113000
CLASS:PRIVATE
CREATED:20260420T102627
DESCRIPTION:
LAST-MODIFIED:20260420T102750
LOCATION:Glendora Metrorail Station\, 410 S Vermont Ave\, Glendora\, CA 917
 41
SUMMARY:Village event: A-Line East / Glendora Walk
URL;VALUE=URI:https://pasadena.helpfulvillage.com/events/4717
END:VEVENT
END:VCALENDAR
